BEGIN:VCALENDAR
VERSION:2.0
PRODID:-//Shelley Rusk Music - ECPv6.13.2.1//NONSGML v1.0//EN
CALSCALE:GREGORIAN
METHOD:PUBLISH
X-ORIGINAL-URL:https://www.shelleyruskmusic.com
X-WR-CALDESC:Events for Shelley Rusk Music
REFRESH-INTERVAL;VALUE=DURATION:PT1H
X-Robots-Tag:noindex
X-PUBLISHED-TTL:PT1H
BEGIN:VTIMEZONE
TZID:America/Detroit
BEGIN:DAYLIGHT
TZOFFSETFROM:-0500
TZOFFSETTO:-0400
TZNAME:EDT
DTSTART:20240310T070000
END:DAYLIGHT
BEGIN:STANDARD
TZOFFSETFROM:-0400
TZOFFSETTO:-0500
TZNAME:EST
DTSTART:20241103T060000
END:STANDARD
BEGIN:DAYLIGHT
TZOFFSETFROM:-0500
TZOFFSETTO:-0400
TZNAME:EDT
DTSTART:20250309T070000
END:DAYLIGHT
BEGIN:STANDARD
TZOFFSETFROM:-0400
TZOFFSETTO:-0500
TZNAME:EST
DTSTART:20251102T060000
END:STANDARD
BEGIN:DAYLIGHT
TZOFFSETFROM:-0500
TZOFFSETTO:-0400
TZNAME:EDT
DTSTART:20260308T070000
END:DAYLIGHT
BEGIN:STANDARD
TZOFFSETFROM:-0400
TZOFFSETTO:-0500
TZNAME:EST
DTSTART:20261101T060000
END:STANDARD
END:VTIMEZONE
BEGIN:VEVENT
DTSTART;TZID=America/Detroit:20260228T180000
DTEND;TZID=America/Detroit:20260228T210000
DTSTAMP:20260423T122335
CREATED:20251028T234929Z
LAST-MODIFIED:20251028T234929Z
UID:9899-1772301600-1772312400@www.shelleyruskmusic.com
SUMMARY:Shelley @ 17 Prime Steakhouse
DESCRIPTION:
URL:https://www.shelleyruskmusic.com/event/shelley-17-prime-steakhouse-5/
LOCATION:17 Prime Steakhouse\, 2049 Savannah Hwy\, Charleston\, SC\, 29407\, United States
END:VEVENT
BEGIN:VEVENT
DTSTART;TZID=America/Detroit:20260214T180000
DTEND;TZID=America/Detroit:20260214T210000
DTSTAMP:20260423T122335
CREATED:20251028T234844Z
LAST-MODIFIED:20251028T234844Z
UID:9897-1771092000-1771102800@www.shelleyruskmusic.com
SUMMARY:Shelley @ 17 Prime Steakhouse
DESCRIPTION:
URL:https://www.shelleyruskmusic.com/event/shelley-17-prime-steakhouse-4/
LOCATION:17 Prime Steakhouse\, 2049 Savannah Hwy\, Charleston\, SC\, 29407\, United States
END:VEVENT
BEGIN:VEVENT
DTSTART;TZID=America/Detroit:20260116T180000
DTEND;TZID=America/Detroit:20260116T210000
DTSTAMP:20260423T122335
CREATED:20251028T234749Z
LAST-MODIFIED:20251028T234749Z
UID:9895-1768586400-1768597200@www.shelleyruskmusic.com
SUMMARY:Shelley @ 17 Prime Steakhouse
DESCRIPTION:
URL:https://www.shelleyruskmusic.com/event/shelley-17-prime-steakhouse-3/
LOCATION:17 Prime Steakhouse\, 2049 Savannah Hwy\, Charleston\, SC\, 29407\, United States
END:VEVENT
BEGIN:VEVENT
DTSTART;TZID=America/Detroit:20260109T180000
DTEND;TZID=America/Detroit:20260109T210000
DTSTAMP:20260423T122335
CREATED:20251028T234705Z
LAST-MODIFIED:20251028T234705Z
UID:9893-1767981600-1767992400@www.shelleyruskmusic.com
SUMMARY:Shelley @ 17 Prime Steakhouse
DESCRIPTION:
URL:https://www.shelleyruskmusic.com/event/shelley-17-prime-steakhouse-2/
LOCATION:17 Prime Steakhouse\, 2049 Savannah Hwy\, Charleston\, SC\, 29407\, United States
END:VEVENT
BEGIN:VEVENT
DTSTART;TZID=America/Detroit:20251205T210000
DTEND;TZID=America/Detroit:20251205T233000
DTSTAMP:20260423T122335
CREATED:20251028T232908Z
LAST-MODIFIED:20251028T232908Z
UID:9884-1764968400-1764977400@www.shelleyruskmusic.com
SUMMARY:Shelley @ Southside17
DESCRIPTION:
URL:https://www.shelleyruskmusic.com/event/shelley-southside17/
LOCATION:Southside 17\, 3632 Savannah Hwy\, Johns Island\, SC\, 29455\, United States
END:VEVENT
BEGIN:VEVENT
DTSTART;TZID=America/Detroit:20251122T180000
DTEND;TZID=America/Detroit:20251122T210000
DTSTAMP:20260423T122335
CREATED:20251028T234607Z
LAST-MODIFIED:20251028T234607Z
UID:9891-1763834400-1763845200@www.shelleyruskmusic.com
SUMMARY:Shelley @17 Prime Steakhouse
DESCRIPTION:
URL:https://www.shelleyruskmusic.com/event/shelley-17-prime-steakhouse/
LOCATION:17 Prime Steakhouse\, 2049 Savannah Hwy\, Charleston\, SC\, 29407\, United States
END:VEVENT
BEGIN:VEVENT
DTSTART;TZID=America/Detroit:20251115T170000
DTEND;TZID=America/Detroit:20251115T200000
DTSTAMP:20260423T122335
CREATED:20251028T232700Z
LAST-MODIFIED:20251028T233428Z
UID:9882-1763226000-1763236800@www.shelleyruskmusic.com
SUMMARY:Shelley @ Rita's Seaside Grille
DESCRIPTION:
URL:https://www.shelleyruskmusic.com/event/shelley-ritas/
LOCATION:Rita’s Seaside Grille\, 2 Center St\, Folly Beach\, SC\, 29439\, United States
END:VEVENT
BEGIN:VEVENT
DTSTART;TZID=America/Detroit:20251101T180000
DTEND;TZID=America/Detroit:20251101T210000
DTSTAMP:20260423T122335
CREATED:20251028T232358Z
LAST-MODIFIED:20251028T233514Z
UID:9880-1762020000-1762030800@www.shelleyruskmusic.com
SUMMARY:Shelley @ 17 Prime Steakhouse
DESCRIPTION:
URL:https://www.shelleyruskmusic.com/event/shelley-17-prime/
LOCATION:17 Prime Steakhouse\, 2049 Savannah Hwy\, Charleston\, SC\, 29407\, United States
END:VEVENT
BEGIN:VEVENT
DTSTART;TZID=America/Detroit:20251025T180000
DTEND;TZID=America/Detroit:20251025T210000
DTSTAMP:20260423T122336
CREATED:20251028T235823Z
LAST-MODIFIED:20251028T235823Z
UID:9905-1761415200-1761426000@www.shelleyruskmusic.com
SUMMARY:Shelley @ 17 Prime Steakhouse
DESCRIPTION:
URL:https://www.shelleyruskmusic.com/event/shelley-17-prime-steakhouse-8/
LOCATION:17 Prime Steakhouse\, 2049 Savannah Hwy\, Charleston\, SC\, 29407\, United States
END:VEVENT
BEGIN:VEVENT
DTSTART;TZID=America/Detroit:20251011T180000
DTEND;TZID=America/Detroit:20251011T210000
DTSTAMP:20260423T122336
CREATED:20251028T235733Z
LAST-MODIFIED:20251028T235733Z
UID:9903-1760205600-1760216400@www.shelleyruskmusic.com
SUMMARY:Shelley @ 17 Prime Steakhouse
DESCRIPTION:
URL:https://www.shelleyruskmusic.com/event/shelley-17-prime-steakhouse-7/
LOCATION:17 Prime Steakhouse\, 2049 Savannah Hwy\, Charleston\, SC\, 29407\, United States
END:VEVENT
BEGIN:VEVENT
DTSTART;TZID=America/Detroit:20251003T183000
DTEND;TZID=America/Detroit:20251003T213000
DTSTAMP:20260423T122336
CREATED:20251028T235639Z
LAST-MODIFIED:20251028T235639Z
UID:9901-1759516200-1759527000@www.shelleyruskmusic.com
SUMMARY:Shelley @ 17 Prime Steakhouse
DESCRIPTION:
URL:https://www.shelleyruskmusic.com/event/shelley-17-prime-steakhouse-6/
LOCATION:17 Prime Steakhouse\, 2049 Savannah Hwy\, Charleston\, SC\, 29407\, United States
END:VEVENT
BEGIN:VEVENT
DTSTART;TZID=America/Detroit:20250919T190000
DTEND;TZID=America/Detroit:20250919T210000
DTSTAMP:20260423T122336
CREATED:20250701T223432Z
LAST-MODIFIED:20250701T223432Z
UID:9864-1758308400-1758315600@www.shelleyruskmusic.com
SUMMARY:Shelley@Accent on Wine at Whitehall
DESCRIPTION:
URL:https://www.shelleyruskmusic.com/event/shelleyaccent-on-wine-at-whitehall-2/
LOCATION:Accent on Wine at Whitehall\, 5401 Netherby Ln Suite 1003\, North Charleston\, SC\, 29420\, United States
END:VEVENT
BEGIN:VEVENT
DTSTART;TZID=America/Detroit:20250829T180000
DTEND;TZID=America/Detroit:20250829T210000
DTSTAMP:20260423T122336
CREATED:20250818T192521Z
LAST-MODIFIED:20250818T192714Z
UID:9873-1756490400-1756501200@www.shelleyruskmusic.com
SUMMARY:Shelley Rusk Band @ Rita's Seaside Grille
DESCRIPTION:Come down to this Folly Beach favorite hotspot for great food\, drinks\, music and atmosphere!
URL:https://www.shelleyruskmusic.com/event/shelley-rusk-band-ritas-seaside-grille/
LOCATION:Rita’s Seaside Grille\, 2 Center St\, Folly Beach\, SC\, 29439\, United States
END:VEVENT
BEGIN:VEVENT
DTSTART;TZID=America/Detroit:20250823T180000
DTEND;TZID=America/Detroit:20250823T210000
DTSTAMP:20260423T122336
CREATED:20250605T001043Z
LAST-MODIFIED:20250605T001043Z
UID:9855-1755972000-1755982800@www.shelleyruskmusic.com
SUMMARY:Shelley@17 Prime Steakhouse
DESCRIPTION:
URL:https://www.shelleyruskmusic.com/event/shelley17-prime-steakhouse-4/
LOCATION:17 Prime Steakhouse\, 2049 Savannah Hwy\, Charleston\, SC\, 29407\, United States
END:VEVENT
BEGIN:VEVENT
DTSTART;TZID=America/Detroit:20250809T180000
DTEND;TZID=America/Detroit:20250809T210000
DTSTAMP:20260423T122336
CREATED:20250605T000855Z
LAST-MODIFIED:20250605T000855Z
UID:9853-1754762400-1754773200@www.shelleyruskmusic.com
SUMMARY:Shelley@17 Prime Steakhouse
DESCRIPTION:
URL:https://www.shelleyruskmusic.com/event/shelley17-prime-steakhouse-3/
LOCATION:17 Prime Steakhouse\, 2049 Savannah Hwy\, Charleston\, SC\, 29407\, United States
END:VEVENT
BEGIN:VEVENT
DTSTART;TZID=America/Detroit:20250808T190000
DTEND;TZID=America/Detroit:20250808T210000
DTSTAMP:20260423T122336
CREATED:20250701T223338Z
LAST-MODIFIED:20250701T223338Z
UID:9861-1754679600-1754686800@www.shelleyruskmusic.com
SUMMARY:Shelley@Accent on Wine at Whitehall
DESCRIPTION:
URL:https://www.shelleyruskmusic.com/event/shelleyaccent-on-wine-at-whitehall/
LOCATION:Accent on Wine at Whitehall\, 5401 Netherby Ln Suite 1003\, North Charleston\, SC\, 29420\, United States
END:VEVENT
BEGIN:VEVENT
DTSTART;TZID=America/Detroit:20250719T190000
DTEND;TZID=America/Detroit:20250719T220000
DTSTAMP:20260423T122336
CREATED:20250516T185302Z
LAST-MODIFIED:20250516T185302Z
UID:9847-1752951600-1752962400@www.shelleyruskmusic.com
SUMMARY:Shelley@17 Prime Steakhouse
DESCRIPTION:
URL:https://www.shelleyruskmusic.com/event/shelley17-prime-steakhouse-2/
LOCATION:17 Prime Steakhouse\, 2049 Savannah Hwy\, Charleston\, SC\, 29407\, United States
END:VEVENT
BEGIN:VEVENT
DTSTART;TZID=America/Detroit:20250705T180000
DTEND;TZID=America/Detroit:20250705T210000
DTSTAMP:20260423T122336
CREATED:20250701T222733Z
LAST-MODIFIED:20250701T222733Z
UID:9858-1751738400-1751749200@www.shelleyruskmusic.com
SUMMARY:ShelleyTrio@Rita's Seaside Grille
DESCRIPTION:
URL:https://www.shelleyruskmusic.com/event/shelleytrioritas-seaside-grille/
LOCATION:Rita’s Seaside Grille\, 2 Center St\, Folly Beach\, SC\, 29439\, United States
END:VEVENT
BEGIN:VEVENT
DTSTART;TZID=America/Detroit:20250605T190000
DTEND;TZID=America/Detroit:20250605T220000
DTSTAMP:20260423T122336
CREATED:20250605T000516Z
LAST-MODIFIED:20250605T000516Z
UID:9850-1749150000-1749160800@www.shelleyruskmusic.com
SUMMARY:Shelley@River Course Clubhouse & Golf Course Kiawah Island (Private)
DESCRIPTION:
URL:https://www.shelleyruskmusic.com/event/shelleyriver-course-clubhouse-golf-course-kiawah-island-private/
LOCATION:River Course Clubhouse & Golf Course Kiawah Island\, 10 River Course Ln\, Johns Island\, SC\, 29455\, United States
END:VEVENT
BEGIN:VEVENT
DTSTART;TZID=America/Detroit:20250522T180000
DTEND;TZID=America/Detroit:20250522T210000
DTSTAMP:20260423T122336
CREATED:20250516T185018Z
LAST-MODIFIED:20250516T185018Z
UID:9844-1747936800-1747947600@www.shelleyruskmusic.com
SUMMARY:Shelley@17 Prime Steakhouse
DESCRIPTION:
URL:https://www.shelleyruskmusic.com/event/shelley17-prime-steakhouse/
LOCATION:17 Prime Steakhouse\, 2049 Savannah Hwy\, Charleston\, SC\, 29407\, United States
END:VEVENT
BEGIN:VEVENT
DTSTART;TZID=America/Detroit:20250419T113000
DTEND;TZID=America/Detroit:20250419T140000
DTSTAMP:20260423T122336
CREATED:20250318T042805Z
LAST-MODIFIED:20250413T053649Z
UID:9840-1745062200-1745071200@www.shelleyruskmusic.com
SUMMARY:Shelley @ Lakeshore Inn Resort
DESCRIPTION:
URL:https://www.shelleyruskmusic.com/event/shelley-lakeshore-inn-resort/
LOCATION:lakeshore Inn\, 20483 Lakeshore Dr\, Lakehead\, CA\, 96051\, United States
END:VEVENT
BEGIN:VEVENT
DTSTART;TZID=America/Detroit:20250412T180000
DTEND;TZID=America/Detroit:20250412T200000
DTSTAMP:20260423T122336
CREATED:20250318T042128Z
LAST-MODIFIED:20250318T042128Z
UID:9837-1744480800-1744488000@www.shelleyruskmusic.com
SUMMARY:Shelley @ The Grape Escape
DESCRIPTION:
URL:https://www.shelleyruskmusic.com/event/shelley-the-grape-escape/
LOCATION:The Grape Escape\, 1824 Pine St\, Redding\, CA\, 96001\, United States
END:VEVENT
BEGIN:VEVENT
DTSTART;TZID=America/Detroit:20250411T170000
DTEND;TZID=America/Detroit:20250411T200000
DTSTAMP:20260423T122336
CREATED:20250318T041851Z
LAST-MODIFIED:20250318T041851Z
UID:9834-1744390800-1744401600@www.shelleyruskmusic.com
SUMMARY:Band @ Whistlestop Park
DESCRIPTION:
URL:https://www.shelleyruskmusic.com/event/band-whistlestop-park/
LOCATION:Whistlestop Park Redding\, 1470 Market St\, Redding\, CA\, 96001\, United States
END:VEVENT
BEGIN:VEVENT
DTSTART;TZID=America/Detroit:20250321T180000
DTEND;TZID=America/Detroit:20250321T200000
DTSTAMP:20260423T122336
CREATED:20250221T203603Z
LAST-MODIFIED:20250221T203603Z
UID:9829-1742580000-1742587200@www.shelleyruskmusic.com
SUMMARY:Shelley @ Turtle Bay Museum
DESCRIPTION:
URL:https://www.shelleyruskmusic.com/event/shelley-turtle-bay-museum/
LOCATION:Turtle Bay Museum\, 844 Sundial Bridge Drive\, Redding\, CA\, United States
END:VEVENT
BEGIN:VEVENT
DTSTART;TZID=America/Detroit:20250221T180000
DTEND;TZID=America/Detroit:20250221T200000
DTSTAMP:20260423T122336
CREATED:20250219T010403Z
LAST-MODIFIED:20250221T203712Z
UID:9827-1740160800-1740168000@www.shelleyruskmusic.com
SUMMARY:Shelley @ The Grape Escape
DESCRIPTION:
URL:https://www.shelleyruskmusic.com/event/shelleythe-grape-escape/
LOCATION:The Grape Escape\, 1824 Pine St\, Redding\, CA\, 96001\, United States
END:VEVENT
BEGIN:VEVENT
DTSTART;TZID=America/Detroit:20250203T180000
DTEND;TZID=America/Detroit:20250203T200000
DTSTAMP:20260423T122336
CREATED:20250203T021543Z
LAST-MODIFIED:20250203T021543Z
UID:9823-1738605600-1738612800@www.shelleyruskmusic.com
SUMMARY:Shelley@Mosaic
DESCRIPTION:
URL:https://www.shelleyruskmusic.com/event/shelleymosaic/
LOCATION:Mosaic Restaurant\, 826 Sundial Bridge Dr.\, Redding\, CA\, 96001\, United States
END:VEVENT
BEGIN:VEVENT
DTSTART;TZID=America/Detroit:20241014T180000
DTEND;TZID=America/Detroit:20241014T200000
DTSTAMP:20260423T122336
CREATED:20240906T164256Z
LAST-MODIFIED:20240906T164256Z
UID:9814-1728928800-1728936000@www.shelleyruskmusic.com
SUMMARY:Shelley Rusk Band @ Mosaic
DESCRIPTION:
URL:https://www.shelleyruskmusic.com/event/shelley-rusk-band-mosaic-2/
LOCATION:Mosaic Restaurant\, 826 Sundial Bridge Dr.\, Redding\, CA\, 96001\, United States
END:VEVENT
BEGIN:VEVENT
DTSTART;TZID=America/Detroit:20240920T190000
DTEND;TZID=America/Detroit:20240920T210000
DTSTAMP:20260423T122336
CREATED:20240906T164058Z
LAST-MODIFIED:20240906T164058Z
UID:9812-1726858800-1726866000@www.shelleyruskmusic.com
SUMMARY:Shelley Rusk Band@The Grape Escape
DESCRIPTION:
URL:https://www.shelleyruskmusic.com/event/shelley-rusk-bandthe-grape-escape/
LOCATION:The Grape Escape\, 1824 Pine St\, Redding\, CA\, 96001\, United States
END:VEVENT
BEGIN:VEVENT
DTSTART;TZID=America/Detroit:20240918T110000
DTEND;TZID=America/Detroit:20240918T130000
DTSTAMP:20260423T122336
CREATED:20240906T163836Z
LAST-MODIFIED:20240906T163836Z
UID:9809-1726657200-1726664400@www.shelleyruskmusic.com
SUMMARY:Shelley@Branch House
DESCRIPTION:
URL:https://www.shelleyruskmusic.com/event/shelleybranch-house/
LOCATION:Branch House\, 844 Sundial Bridge Dr\, Redd\, CA\, 96001\, United States
END:VEVENT
BEGIN:VEVENT
DTSTART;TZID=America/Detroit:20240905T060000
DTEND;TZID=America/Detroit:20240905T203000
DTSTAMP:20260423T122336
CREATED:20240720T000038Z
LAST-MODIFIED:20240720T000038Z
UID:9792-1725516000-1725568200@www.shelleyruskmusic.com
SUMMARY:Shelley Rusk Band @ Thursday Night in the Park Shasta Lake
DESCRIPTION:
URL:https://www.shelleyruskmusic.com/event/shelley-rusk-band-thursday-night-in-the-park-shasta-lake/
LOCATION:Clair Engel Park\, City of Shasta Lake\, Front Street\, Shasta Lake\, CA\, 96019\, United States
END:VEVENT
END:VCALENDAR