BEGIN:VCALENDAR
VERSION:2.0
PRODID:-//Shelley Rusk Music - ECPv6.13.2.1//NONSGML v1.0//EN
CALSCALE:GREGORIAN
METHOD:PUBLISH
X-WR-CALNAME:Shelley Rusk Music
X-ORIGINAL-URL:https://www.shelleyruskmusic.com
X-WR-CALDESC:Events for Shelley Rusk Music
REFRESH-INTERVAL;VALUE=DURATION:PT1H
X-Robots-Tag:noindex
X-PUBLISHED-TTL:PT1H
BEGIN:VTIMEZONE
TZID:America/Detroit
BEGIN:DAYLIGHT
TZOFFSETFROM:-0500
TZOFFSETTO:-0400
TZNAME:EDT
DTSTART:20250309T070000
END:DAYLIGHT
BEGIN:STANDARD
TZOFFSETFROM:-0400
TZOFFSETTO:-0500
TZNAME:EST
DTSTART:20251102T060000
END:STANDARD
BEGIN:DAYLIGHT
TZOFFSETFROM:-0500
TZOFFSETTO:-0400
TZNAME:EDT
DTSTART:20260308T070000
END:DAYLIGHT
BEGIN:STANDARD
TZOFFSETFROM:-0400
TZOFFSETTO:-0500
TZNAME:EST
DTSTART:20261101T060000
END:STANDARD
END:VTIMEZONE
BEGIN:VEVENT
DTSTART;TZID=America/Detroit:20250919T190000
DTEND;TZID=America/Detroit:20250919T210000
DTSTAMP:20260424T055908
CREATED:20250701T223432Z
LAST-MODIFIED:20250701T223432Z
UID:9864-1758308400-1758315600@www.shelleyruskmusic.com
SUMMARY:Shelley@Accent on Wine at Whitehall
DESCRIPTION:
URL:https://www.shelleyruskmusic.com/event/shelleyaccent-on-wine-at-whitehall-2/
LOCATION:Accent on Wine at Whitehall\, 5401 Netherby Ln Suite 1003\, North Charleston\, SC\, 29420\, United States
END:VEVENT
BEGIN:VEVENT
DTSTART;TZID=America/Detroit:20251003T183000
DTEND;TZID=America/Detroit:20251003T213000
DTSTAMP:20260424T055908
CREATED:20251028T235639Z
LAST-MODIFIED:20251028T235639Z
UID:9901-1759516200-1759527000@www.shelleyruskmusic.com
SUMMARY:Shelley @ 17 Prime Steakhouse
DESCRIPTION:
URL:https://www.shelleyruskmusic.com/event/shelley-17-prime-steakhouse-6/
LOCATION:17 Prime Steakhouse\, 2049 Savannah Hwy\, Charleston\, SC\, 29407\, United States
END:VEVENT
BEGIN:VEVENT
DTSTART;TZID=America/Detroit:20251011T180000
DTEND;TZID=America/Detroit:20251011T210000
DTSTAMP:20260424T055908
CREATED:20251028T235733Z
LAST-MODIFIED:20251028T235733Z
UID:9903-1760205600-1760216400@www.shelleyruskmusic.com
SUMMARY:Shelley @ 17 Prime Steakhouse
DESCRIPTION:
URL:https://www.shelleyruskmusic.com/event/shelley-17-prime-steakhouse-7/
LOCATION:17 Prime Steakhouse\, 2049 Savannah Hwy\, Charleston\, SC\, 29407\, United States
END:VEVENT
BEGIN:VEVENT
DTSTART;TZID=America/Detroit:20251025T180000
DTEND;TZID=America/Detroit:20251025T210000
DTSTAMP:20260424T055908
CREATED:20251028T235823Z
LAST-MODIFIED:20251028T235823Z
UID:9905-1761415200-1761426000@www.shelleyruskmusic.com
SUMMARY:Shelley @ 17 Prime Steakhouse
DESCRIPTION:
URL:https://www.shelleyruskmusic.com/event/shelley-17-prime-steakhouse-8/
LOCATION:17 Prime Steakhouse\, 2049 Savannah Hwy\, Charleston\, SC\, 29407\, United States
END:VEVENT
BEGIN:VEVENT
DTSTART;TZID=America/Detroit:20251101T180000
DTEND;TZID=America/Detroit:20251101T210000
DTSTAMP:20260424T055908
CREATED:20251028T232358Z
LAST-MODIFIED:20251028T233514Z
UID:9880-1762020000-1762030800@www.shelleyruskmusic.com
SUMMARY:Shelley @ 17 Prime Steakhouse
DESCRIPTION:
URL:https://www.shelleyruskmusic.com/event/shelley-17-prime/
LOCATION:17 Prime Steakhouse\, 2049 Savannah Hwy\, Charleston\, SC\, 29407\, United States
END:VEVENT
BEGIN:VEVENT
DTSTART;TZID=America/Detroit:20251115T170000
DTEND;TZID=America/Detroit:20251115T200000
DTSTAMP:20260424T055908
CREATED:20251028T232700Z
LAST-MODIFIED:20251028T233428Z
UID:9882-1763226000-1763236800@www.shelleyruskmusic.com
SUMMARY:Shelley @ Rita's Seaside Grille
DESCRIPTION:
URL:https://www.shelleyruskmusic.com/event/shelley-ritas/
LOCATION:Rita’s Seaside Grille\, 2 Center St\, Folly Beach\, SC\, 29439\, United States
END:VEVENT
BEGIN:VEVENT
DTSTART;TZID=America/Detroit:20251122T180000
DTEND;TZID=America/Detroit:20251122T210000
DTSTAMP:20260424T055908
CREATED:20251028T234607Z
LAST-MODIFIED:20251028T234607Z
UID:9891-1763834400-1763845200@www.shelleyruskmusic.com
SUMMARY:Shelley @17 Prime Steakhouse
DESCRIPTION:
URL:https://www.shelleyruskmusic.com/event/shelley-17-prime-steakhouse/
LOCATION:17 Prime Steakhouse\, 2049 Savannah Hwy\, Charleston\, SC\, 29407\, United States
END:VEVENT
BEGIN:VEVENT
DTSTART;TZID=America/Detroit:20251205T210000
DTEND;TZID=America/Detroit:20251205T233000
DTSTAMP:20260424T055908
CREATED:20251028T232908Z
LAST-MODIFIED:20251028T232908Z
UID:9884-1764968400-1764977400@www.shelleyruskmusic.com
SUMMARY:Shelley @ Southside17
DESCRIPTION:
URL:https://www.shelleyruskmusic.com/event/shelley-southside17/
LOCATION:Southside 17\, 3632 Savannah Hwy\, Johns Island\, SC\, 29455\, United States
END:VEVENT
BEGIN:VEVENT
DTSTART;TZID=America/Detroit:20260109T180000
DTEND;TZID=America/Detroit:20260109T210000
DTSTAMP:20260424T055908
CREATED:20251028T234705Z
LAST-MODIFIED:20251028T234705Z
UID:9893-1767981600-1767992400@www.shelleyruskmusic.com
SUMMARY:Shelley @ 17 Prime Steakhouse
DESCRIPTION:
URL:https://www.shelleyruskmusic.com/event/shelley-17-prime-steakhouse-2/
LOCATION:17 Prime Steakhouse\, 2049 Savannah Hwy\, Charleston\, SC\, 29407\, United States
END:VEVENT
BEGIN:VEVENT
DTSTART;TZID=America/Detroit:20260116T180000
DTEND;TZID=America/Detroit:20260116T210000
DTSTAMP:20260424T055908
CREATED:20251028T234749Z
LAST-MODIFIED:20251028T234749Z
UID:9895-1768586400-1768597200@www.shelleyruskmusic.com
SUMMARY:Shelley @ 17 Prime Steakhouse
DESCRIPTION:
URL:https://www.shelleyruskmusic.com/event/shelley-17-prime-steakhouse-3/
LOCATION:17 Prime Steakhouse\, 2049 Savannah Hwy\, Charleston\, SC\, 29407\, United States
END:VEVENT
BEGIN:VEVENT
DTSTART;TZID=America/Detroit:20260214T180000
DTEND;TZID=America/Detroit:20260214T210000
DTSTAMP:20260424T055908
CREATED:20251028T234844Z
LAST-MODIFIED:20251028T234844Z
UID:9897-1771092000-1771102800@www.shelleyruskmusic.com
SUMMARY:Shelley @ 17 Prime Steakhouse
DESCRIPTION:
URL:https://www.shelleyruskmusic.com/event/shelley-17-prime-steakhouse-4/
LOCATION:17 Prime Steakhouse\, 2049 Savannah Hwy\, Charleston\, SC\, 29407\, United States
END:VEVENT
BEGIN:VEVENT
DTSTART;TZID=America/Detroit:20260228T180000
DTEND;TZID=America/Detroit:20260228T210000
DTSTAMP:20260424T055908
CREATED:20251028T234929Z
LAST-MODIFIED:20251028T234929Z
UID:9899-1772301600-1772312400@www.shelleyruskmusic.com
SUMMARY:Shelley @ 17 Prime Steakhouse
DESCRIPTION:
URL:https://www.shelleyruskmusic.com/event/shelley-17-prime-steakhouse-5/
LOCATION:17 Prime Steakhouse\, 2049 Savannah Hwy\, Charleston\, SC\, 29407\, United States
END:VEVENT
END:VCALENDAR