BEGIN:VCALENDAR
VERSION:2.0
PRODID:-//Shelley Rusk Music - ECPv6.13.2.1//NONSGML v1.0//EN
CALSCALE:GREGORIAN
METHOD:PUBLISH
X-WR-CALNAME:Shelley Rusk Music
X-ORIGINAL-URL:https://www.shelleyruskmusic.com
X-WR-CALDESC:Events for Shelley Rusk Music
REFRESH-INTERVAL;VALUE=DURATION:PT1H
X-Robots-Tag:noindex
X-PUBLISHED-TTL:PT1H
BEGIN:VTIMEZONE
TZID:America/Detroit
BEGIN:DAYLIGHT
TZOFFSETFROM:-0500
TZOFFSETTO:-0400
TZNAME:EDT
DTSTART:20240310T070000
END:DAYLIGHT
BEGIN:STANDARD
TZOFFSETFROM:-0400
TZOFFSETTO:-0500
TZNAME:EST
DTSTART:20241103T060000
END:STANDARD
END:VTIMEZONE
BEGIN:VEVENT
DTSTART;TZID=America/Detroit:20240812T180000
DTEND;TZID=America/Detroit:20240812T200000
DTSTAMP:20260423T173536
CREATED:20240719T233805Z
LAST-MODIFIED:20240719T234250Z
UID:9789-1723485600-1723492800@www.shelleyruskmusic.com
SUMMARY:Shelley Rusk Band @ Mosaic
DESCRIPTION:
URL:https://www.shelleyruskmusic.com/event/shelley-rusk-band-mosaic/
LOCATION:Mosaic Restaurant\, 826 Sundial Bridge Dr.\, Redding\, CA\, 96001\, United States
END:VEVENT
BEGIN:VEVENT
DTSTART;TZID=America/Detroit:20240810T190000
DTEND;TZID=America/Detroit:20240810T220000
DTSTAMP:20260423T173536
CREATED:20240719T233347Z
LAST-MODIFIED:20240719T233519Z
UID:9786-1723316400-1723327200@www.shelleyruskmusic.com
SUMMARY:Shelley Rusk Band @ The Shack
DESCRIPTION:A classic Redding favorite…\nGreat food\, great stage\, great music
URL:https://www.shelleyruskmusic.com/event/shelley-rusk-band-the-shack/
LOCATION:The Shack\, 1325 Eureka Way\, Redding\, CA\, 96001\, United States
END:VEVENT
BEGIN:VEVENT
DTSTART;TZID=America/Detroit:20240720T180000
DTEND;TZID=America/Detroit:20240720T200000
DTSTAMP:20260423T173536
CREATED:20240604T015918Z
LAST-MODIFIED:20240719T232939Z
UID:9740-1721498400-1721505600@www.shelleyruskmusic.com
SUMMARY:Shelley Rusk @ Grape Escape
DESCRIPTION:
URL:https://www.shelleyruskmusic.com/event/shelley-rusk-band-grape-escape/
LOCATION:The Grape Escape\, 1824 Pine St\, Redding\, CA\, 96001\, United States
END:VEVENT
BEGIN:VEVENT
DTSTART;TZID=America/Detroit:20240713T180000
DTEND;TZID=America/Detroit:20240713T210000
DTSTAMP:20260423T173536
CREATED:20240416T204453Z
LAST-MODIFIED:20240416T204840Z
UID:9725-1720893600-1720904400@www.shelleyruskmusic.com
SUMMARY:The Shack w/Band
DESCRIPTION:
URL:https://www.shelleyruskmusic.com/event/the-shack-w-band-2/
LOCATION:The Shack\, 1325 Eureka Way\, Redding\, CA\, 96001\, United States
END:VEVENT
BEGIN:VEVENT
DTSTART;TZID=America/Detroit:20240712T183000
DTEND;TZID=America/Detroit:20240712T203000
DTSTAMP:20260423T173536
CREATED:20240416T204802Z
LAST-MODIFIED:20240416T204907Z
UID:9727-1720809000-1720816200@www.shelleyruskmusic.com
SUMMARY:Friday Nights at the Park w/Band
DESCRIPTION:
URL:https://www.shelleyruskmusic.com/event/friday-nights-at-the-park/
LOCATION:Clair Engel Park\, City of Shasta Lake\, Front Street\, Shasta Lake\, CA\, 96019\, United States
END:VEVENT
BEGIN:VEVENT
DTSTART;TZID=America/Detroit:20240621T180000
DTEND;TZID=America/Detroit:20240621T203000
DTSTAMP:20260423T173536
CREATED:20240608T033158Z
LAST-MODIFIED:20240608T033158Z
UID:9765-1718992800-1719001800@www.shelleyruskmusic.com
SUMMARY:Shelley@Cheesecakes Unlimited
DESCRIPTION:
URL:https://www.shelleyruskmusic.com/event/shelleycheesecakes-unlimited/
LOCATION:Cheesecakes Unlimited\, 1135 Pine St.\, Redding\, CA\, 96001\, United States
END:VEVENT
BEGIN:VEVENT
DTSTART;TZID=America/Detroit:20240610T180000
DTEND;TZID=America/Detroit:20240610T200000
DTSTAMP:20260423T173536
CREATED:20240409T042914Z
LAST-MODIFIED:20240409T043220Z
UID:9711-1718042400-1718049600@www.shelleyruskmusic.com
SUMMARY:Mosaic w/Band
DESCRIPTION:Great food and a great vibe.
URL:https://www.shelleyruskmusic.com/event/mosaic-2/
LOCATION:Mosaic Restaurant\, 826 Sundial Bridge Dr.\, Redding\, CA\, 96001\, United States
END:VEVENT
BEGIN:VEVENT
DTSTART;TZID=America/Detroit:20240601T133000
DTEND;TZID=America/Detroit:20240601T170000
DTSTAMP:20260423T173536
CREATED:20240514T004605Z
LAST-MODIFIED:20240514T004748Z
UID:9735-1717248600-1717261200@www.shelleyruskmusic.com
SUMMARY:Bethel Redding Weekend w/Band
DESCRIPTION:
URL:https://www.shelleyruskmusic.com/event/bethel-redding-weekend-w-band/
LOCATION:Anderson River Park\, 2800 Rupert Rd\, Anderson\, CA\, 96007\, United States
END:VEVENT
BEGIN:VEVENT
DTSTART;TZID=America/Detroit:20240601T110000
DTEND;TZID=America/Detroit:20240601T123000
DTSTAMP:20260423T173536
CREATED:20240416T203154Z
LAST-MODIFIED:20240514T004817Z
UID:9715-1717239600-1717245000@www.shelleyruskmusic.com
SUMMARY:Boomtown Festival w/Band
DESCRIPTION:
URL:https://www.shelleyruskmusic.com/event/boomtown-festival-w-band/
LOCATION:Clair Engel Park\, City of Shasta Lake\, Front Street\, Shasta Lake\, CA\, 96019\, United States
END:VEVENT
BEGIN:VEVENT
DTSTART;TZID=America/Detroit:20240526T103000
DTEND;TZID=America/Detroit:20240526T123000
DTSTAMP:20260423T173536
CREATED:20240314T050611Z
LAST-MODIFIED:20240329T190425Z
UID:9678-1716719400-1716726600@www.shelleyruskmusic.com
SUMMARY:20th Annual McCloud Mushroom Festival w/Band
DESCRIPTION:This is going to be a blast!   If you haven’t been to a McCloud festival\, you have to check it out.  This is also a great venue to see Shelley and the full band on a large stage!
URL:https://www.shelleyruskmusic.com/event/20th-annual-mccloud-mushroom-festival-w-band/
LOCATION:20th Annual McCloud Mushroom Festival\, McCloud City Center\, McCloud\, CA\, 96057\, United States
END:VEVENT
BEGIN:VEVENT
DTSTART;TZID=America/Detroit:20240523T180000
DTEND;TZID=America/Detroit:20240523T210000
DTSTAMP:20260423T173536
CREATED:20240314T050112Z
LAST-MODIFIED:20240523T163047Z
UID:9674-1716487200-1716498000@www.shelleyruskmusic.com
SUMMARY:The Park - Redding's Food Truck Hub w/Band
DESCRIPTION:If you are in Redding\, you probably know about The Park and the variety of food trucks that surround it.  Come out to see Shelley and the full band on a large stage and enjoy delicious food!
URL:https://www.shelleyruskmusic.com/event/the-park-reddings-food-truck-hub-w-band/
LOCATION:The Park – Redding’s Food Truck Hub\, 1552 Placer Street\, Redding\, CA\, 96001\, United States
END:VEVENT
BEGIN:VEVENT
DTSTART;TZID=America/Detroit:20240518T183000
DTEND;TZID=America/Detroit:20240518T203000
DTSTAMP:20260423T173536
CREATED:20240416T204006Z
LAST-MODIFIED:20240416T204006Z
UID:9721-1716057000-1716064200@www.shelleyruskmusic.com
SUMMARY:Lunas Fusion w/Band
DESCRIPTION:
URL:https://www.shelleyruskmusic.com/event/lunas-fusion-w-band/
LOCATION:Lunas Fusion\,  2914 Churn Creek Road\, Redding\, CA\, 96002\, United States
END:VEVENT
BEGIN:VEVENT
DTSTART;TZID=America/Detroit:20240511T190000
DTEND;TZID=America/Detroit:20240511T203000
DTSTAMP:20260423T173536
CREATED:20240416T203808Z
LAST-MODIFIED:20240416T203808Z
UID:9718-1715454000-1715459400@www.shelleyruskmusic.com
SUMMARY:The Big Redding Family Variety Show
DESCRIPTION:Guest Artist: Shelley will play a short set of music during this event which includes music\, magic and comedy.  Tickets Required.
URL:https://www.shelleyruskmusic.com/event/the-big-redding-family-variety-show/
LOCATION:Redding Performing Arts Center\, 3274 Bechelli Lane\, Redding\, CA\, 96002\, United States
END:VEVENT
BEGIN:VEVENT
DTSTART;TZID=America/Detroit:20240510T180000
DTEND;TZID=America/Detroit:20240510T200000
DTSTAMP:20260423T173536
CREATED:20240329T192807Z
LAST-MODIFIED:20240402T170031Z
UID:9703-1715364000-1715371200@www.shelleyruskmusic.com
SUMMARY:The Grape Escape w/Band
DESCRIPTION:Hear Shelley and the full band on the outside patio while enjoying Redding’s best location for great wine selections and delicious food.  The crepes are amazing!
URL:https://www.shelleyruskmusic.com/event/the-grape-escape/
LOCATION:The Grape Escape\, 1824 Pine St\, Redding\, CA\, 96001\, United States
END:VEVENT
BEGIN:VEVENT
DTSTART;TZID=America/Detroit:20240506T180000
DTEND;TZID=America/Detroit:20240506T200000
DTSTAMP:20260423T173536
CREATED:20240409T042713Z
LAST-MODIFIED:20240409T043117Z
UID:9709-1715018400-1715025600@www.shelleyruskmusic.com
SUMMARY:Mosaic w/Band
DESCRIPTION:Great food and a great vibe.
URL:https://www.shelleyruskmusic.com/event/mosaic/
LOCATION:Mosaic Restaurant\, 826 Sundial Bridge Dr.\, Redding\, CA\, 96001\, United States
END:VEVENT
BEGIN:VEVENT
DTSTART;TZID=America/Detroit:20240424T190000
DTEND;TZID=America/Detroit:20240424T210000
DTSTAMP:20260423T173536
CREATED:20240314T045753Z
LAST-MODIFIED:20240329T190840Z
UID:9671-1713985200-1713992400@www.shelleyruskmusic.com
SUMMARY:Black Diamond Lounge w/Band
DESCRIPTION:This is a relatively new\, very cool lounge in Redding.  Come check it out and bring your friends to see Shelley and the full band on stage!
URL:https://www.shelleyruskmusic.com/event/black-diamond-lounge-w-band/
LOCATION:Black Diamond Lounge\, 1729 California Street\, Redding\, CA\, 96001\, United States
END:VEVENT
BEGIN:VEVENT
DTSTART;TZID=America/Detroit:20240413T190000
DTEND;TZID=America/Detroit:20240413T210000
DTSTAMP:20260423T173536
CREATED:20240314T045252Z
LAST-MODIFIED:20240409T042233Z
UID:9666-1713034800-1713042000@www.shelleyruskmusic.com
SUMMARY:The Shack
DESCRIPTION:A classic Redding favorite…
URL:https://www.shelleyruskmusic.com/event/the-shack/
LOCATION:The Shack\, 1325 Eureka Way\, Redding\, CA\, 96001\, United States
END:VEVENT
BEGIN:VEVENT
DTSTART;TZID=America/Detroit:20240410T190000
DTEND;TZID=America/Detroit:20240410T210000
DTSTAMP:20260423T173536
CREATED:20240314T044517Z
LAST-MODIFIED:20240314T045355Z
UID:9664-1712775600-1712782800@www.shelleyruskmusic.com
SUMMARY:Bethel Hospitality Meeting (Private Event)
DESCRIPTION:
URL:https://www.shelleyruskmusic.com/event/bethel-hospitality-meeting/
LOCATION:Bethel Church\, 933 College View Dr.\, CA\, 96003\, United States
END:VEVENT
BEGIN:VEVENT
DTSTART;TZID=America/Detroit:20240404T063000
DTEND;TZID=America/Detroit:20240404T203000
DTSTAMP:20260423T173536
CREATED:20240329T183355Z
LAST-MODIFIED:20240329T185711Z
UID:9685-1712212200-1712262600@www.shelleyruskmusic.com
SUMMARY:Lunas Fusion
DESCRIPTION:A delicious Latin-Fusion Restaurant.  Come out for some great food and Shelley’s music!
URL:https://www.shelleyruskmusic.com/event/lunas-fusion/
LOCATION:Lunas Fusion\,  2914 Churn Creek Road\, Redding\, CA\, 96002\, United States
END:VEVENT
BEGIN:VEVENT
DTSTART;TZID=America/Detroit:20240326T183000
DTEND;TZID=America/Detroit:20240326T203000
DTSTAMP:20260423T173536
CREATED:20240313T235829Z
LAST-MODIFIED:20240313T235829Z
UID:9659-1711477800-1711485000@www.shelleyruskmusic.com
SUMMARY:Foster Shasta Prophetic Night
DESCRIPTION:Foster and adoptive parents\, we love you and want to remind you that you are seen\, known\, and covered. We have created this night of worship and prophetic ministry especially for you. \nWe invite you to come\, receive encouragement\, and be blessed with the presence of God.
URL:https://www.shelleyruskmusic.com/event/foster-shasta-prophetic-night/
LOCATION:Bethel Church\, 933 College View Dr.\, CA\, 96003\, United States
END:VEVENT
BEGIN:VEVENT
DTSTART;TZID=America/Detroit:20240318T180000
DTEND;TZID=America/Detroit:20240318T200000
DTSTAMP:20260423T173536
CREATED:20240313T235453Z
LAST-MODIFIED:20240313T235453Z
UID:9656-1710784800-1710792000@www.shelleyruskmusic.com
SUMMARY:Mosaic Restaurant
DESCRIPTION:
URL:https://www.shelleyruskmusic.com/event/mosaic-restaurant/
LOCATION:Mosaic Restaurant\, 826 Sundial Bridge Dr.\, Redding\, CA\, 96001\, United States
END:VEVENT
BEGIN:VEVENT
DTSTART;TZID=America/Detroit:20240314T133000
DTEND;TZID=America/Detroit:20240314T143000
DTSTAMP:20260423T173536
CREATED:20240314T051036Z
LAST-MODIFIED:20240314T051036Z
UID:9681-1710423000-1710426600@www.shelleyruskmusic.com
SUMMARY:Sundial Assisted Living
DESCRIPTION:
URL:https://www.shelleyruskmusic.com/event/sundial-assisted-living/
LOCATION:Sundial Assisted Living\, 395 Hilltop Dr.\, Redding\, CA\, 96003\, United States
END:VEVENT
END:VCALENDAR